BEGIN:VCALENDAR
VERSION:2.0
PRODID:-//TYPO3/NONSGML Calendarize//EN
BEGIN:VEVENT
UID:calendarize-offener-gruener-stammtisch-20
DTSTAMP:20260420T095610Z
DTSTART:20260429T180000Z
SUMMARY:Offener\, grüner Stammtisch
DESCRIPTION:Unser nächster offener\, grüner Stammtisch findet statt am M
 Ittwoch\, 29. April 2026\, ab 20.00 Uhr\, in der Pogge in der Langen Straß
 e in Quakenbrück.\nWir erwarten besonderen Besuch: Matthias Brüggemann\,
  der Samtgemeindebürgermeisterkandidat der CDU stellt sich vor.\nAlle\, d
 ie an grüner Politik interessiert sind\, sind wie immer eingeladen\, dabe
 i zu sein\, Fragen zu stellen\, oder einfach zuzuhören.
X-ALT-DESC;FMTTYPE=text/html:<p>Unser nächster offener\, grüner Stammtis
 ch findet statt am MIttwoch\, 29. April 2026\, ab 20.00 Uhr\, in der Pogge
  in der Langen Straße in Quakenbrück.</p>\n<p>Wir erwarten besonderen Be
 such: Matthias Brüggemann\, der Samtgemeindebürgermeisterkandidat der CD
 U stellt sich vor.</p>\n<p>Alle\, die an grüner Politik interessiert sind
 \, sind wie immer eingeladen\, dabei zu sein\, Fragen zu stellen\, oder ei
 nfach zuzuhören.</p>
LOCATION:
END:VEVENT
END:VCALENDAR
